View In:
ArcGIS JavaScript
ArcGIS Online Map Viewer
ArcGIS Earth
ArcMap
View Footprint In:
ArcGIS Online Map Viewer
Service Description: Depth of water raster for Lower Saint John River flood event of 2008. Created using Hydro-Enhanced LiDAR DEMs of 83 sections of the river. Levels for each was obtained from NBELG Hydrology Centres 1-D HEC RAS Model.
Name: Flood/DW_LSJR_2008
Description: Depth of water raster for Lower Saint John River flood event of 2008. Created using Hydro-Enhanced LiDAR DEMs of 83 sections of the river. Levels for each was obtained from NBELG Hydrology Centres 1-D HEC RAS Model.
Single Fused Map Cache: false
Extent:
XMin: 2471203.0
YMin: 7354628.0
XMax: 2574858.0
YMax: 7475261.0
Spatial Reference: 2036
(2953)
VCSWkid(6647)
LatestVCSWkid(6647)
Initial Extent:
XMin: 2471203.0
YMin: 7354628.0
XMax: 2574858.0
YMax: 7475261.0
Spatial Reference: 2036
(2953)
VCSWkid(6647)
LatestVCSWkid(6647)
Full Extent:
XMin: 2471203.0
YMin: 7354628.0
XMax: 2574858.0
YMax: 7475261.0
Spatial Reference: 2036
(2953)
VCSWkid(6647)
LatestVCSWkid(6647)
Pixel Size X: 1.0
Pixel Size Y: 1.0
Band Count: 1
Pixel Type: F32
RasterFunction Infos: {"rasterFunctionInfos": [{
"name": "None",
"description": "A No-Op Function.",
"help": ""
}]}
Mensuration Capabilities: Basic
Has Histograms: true
Has Colormap: false
Has Multi Dimensions : false
Rendering Rule:
Min Scale: 0
Max Scale: 0
Copyright Text: NBELG
Service Data Type: esriImageServiceDataTypeGeneric
Min Values: 0.02555093541741371
Max Values: 11.663456916809082
Mean Values: 3.0482240570242736
Standard Deviation Values: 1.7501118365899229
Object ID Field: OBJECTID
Fields:
-
OBJECTID
(
type: esriFieldTypeOID, alias: OBJECTID
)
-
Shape
(
type: esriFieldTypeGeometry, alias: Shape
)
-
Name
(
type: esriFieldTypeString, alias: Name, length: 200
)
-
MinPS
(
type: esriFieldTypeDouble, alias: MinPS
)
-
MaxPS
(
type: esriFieldTypeDouble, alias: MaxPS
)
-
LowPS
(
type: esriFieldTypeDouble, alias: LowPS
)
-
HighPS
(
type: esriFieldTypeDouble, alias: HighPS
)
-
Category
(
type: esriFieldTypeInteger, alias: Category
, Coded Values:
[0: Unknown]
, [1: Primary]
, [2: Overview]
, ...6 more...
)
-
Tag
(
type: esriFieldTypeString, alias: Tag, length: 100
)
-
GroupName
(
type: esriFieldTypeString, alias: GroupName, length: 100
)
-
ProductName
(
type: esriFieldTypeString, alias: ProductName, length: 100
)
-
CenterX
(
type: esriFieldTypeDouble, alias: CenterX
)
-
CenterY
(
type: esriFieldTypeDouble, alias: CenterY
)
-
ZOrder
(
type: esriFieldTypeInteger, alias: ZOrder
)
-
Shape_Length
(
type: esriFieldTypeDouble, alias: Shape_Length
)
-
Shape_Area
(
type: esriFieldTypeDouble, alias: Shape_Area
)
Default Mosaic Method: Northwest
Allowed Mosaic Methods: NorthWest,Center,LockRaster,ByAttribute,Nadir,Viewpoint,Seamline,None
SortField:
SortValue: null
Mosaic Operator: First
Default Compression Quality: 75
Default Resampling Method: Bilinear
Max Record Count: 1000
Max Image Height: 4100
Max Image Width: 15000
Max Download Image Count: 20
Max Mosaic Image Count: 20
Allow Raster Function: true
Allow Copy: null
Allow Analysis: null
Allow Compute TiePoints: false
Supports Statistics: true
Supports Advanced Queries: true
Use StandardizedQueries: true
Raster Type Infos:
Name: Raster Dataset
Description: Supports all ArcGIS Raster Datasets
Help:
Has Raster Attribute Table: false
Edit Fields Info: null
Ownership Based AccessControl For Rasters: null
Child Resources:
Info
Histograms
Key Properties
Legend
Raster Function Infos
Supported Operations:
Export Image
Query
Identify
Measure
Compute Histograms
Compute Statistics Histograms
Get Samples
Compute Class Statistics
Query Boundary
Compute Pixel Location
Compute Angles
Validate
Project