{ "currentVersion": 10.91, "serviceDescription": "
Depth of water raster for Lower Saint John River flood event of 2008. Created using Hydro-Enhanced LiDAR DEMs of 83 sections of the river. Levels for each was obtained from NBELG Hydrology Centers 1-D HEC RAS Model.<\/SPAN><\/P><\/DIV><\/DIV>",
"name": "Flood/DW_LSJR_2008",
"description": " Depth of water raster for Lower Saint John River flood event of 2008. Created using Hydro-Enhanced LiDAR DEMs of 83 sections of the river. Levels for each was obtained from NBELG Hydrology Centers 1-D HEC RAS Model.<\/SPAN><\/P><\/DIV><\/DIV>",
"extent": {
"xmin": 2471203,
"ymin": 7354628,
"xmax": 2574858,
"ymax": 7475261,
"spatialReference": {
"wkid": 2036,
"latestWkid": 2953,
"vcsWkid": 6647,
"latestVcsWkid": 6647
}
},
"initialExtent": {
"xmin": 2471203,
"ymin": 7354628,
"xmax": 2574858,
"ymax": 7475261,
"spatialReference": {
"wkid": 2036,
"latestWkid": 2953,
"vcsWkid": 6647,
"latestVcsWkid": 6647
}
},
"fullExtent": {
"xmin": 2471203,
"ymin": 7354628,
"xmax": 2574858,
"ymax": 7475261,
"spatialReference": {
"wkid": 2036,
"latestWkid": 2953,
"vcsWkid": 6647,
"latestVcsWkid": 6647
}
},
"heightModelInfo": {
"heightModel": "gravity_related_height",
"vertCRS": "CGVD2013_height",
"heightUnit": "meter"
},
"pixelSizeX": 1,
"pixelSizeY": 1,
"bandCount": 1,
"pixelType": "F32",
"minPixelSize": 0,
"maxPixelSize": 0,
"copyrightText": "ELG/SNB",
"serviceDataType": "esriImageServiceDataTypeGeneric",
"minValues": [
0.02555093541741371
],
"maxValues": [
11.663456916809082
],
"meanValues": [
3.0482240570242736
],
"stdvValues": [
1.7501118365899229
],
"objectIdField": "OBJECTID",
"fields": [
{
"name": "OBJECTID",
"type": "esriFieldTypeOID",
"alias": "OBJECTID",
"domain": null
},
{
"name": "Shape",
"type": "esriFieldTypeGeometry",
"alias": "Shape",
"domain": null
},
{
"name": "Name",
"type": "esriFieldTypeString",
"alias": "Name",
"domain": null,
"length": 200
},
{
"name": "MinPS",
"type": "esriFieldTypeDouble",
"alias": "MinPS",
"domain": null
},
{
"name": "MaxPS",
"type": "esriFieldTypeDouble",
"alias": "MaxPS",
"domain": null
},
{
"name": "LowPS",
"type": "esriFieldTypeDouble",
"alias": "LowPS",
"domain": null
},
{
"name": "HighPS",
"type": "esriFieldTypeDouble",
"alias": "HighPS",
"domain": null
},
{
"name": "Category",
"type": "esriFieldTypeInteger",
"alias": "Category",
"domain": {
"type": "codedValue",
"name": "MosaicCatalogItemCategoryDomain",
"description": "Catalog item categories.",
"codedValues": [
{
"name": "Unknown",
"code": 0
},
{
"name": "Primary",
"code": 1
},
{
"name": "Overview",
"code": 2
},
{
"name": "Unprocessed Overview",
"code": 3
},
{
"name": "Partial Overview",
"code": 4
},
{
"name": "Inactive",
"code": 5
},
{
"name": "Uploaded",
"code": 253
},
{
"name": "Incomplete",
"code": 254
},
{
"name": "Custom",
"code": 255
}
],
"mergePolicy": "esriMPTDefaultValue",
"splitPolicy": "esriSPTDefaultValue"
}
},
{
"name": "Tag",
"type": "esriFieldTypeString",
"alias": "Tag",
"domain": null,
"length": 100
},
{
"name": "GroupName",
"type": "esriFieldTypeString",
"alias": "GroupName",
"domain": null,
"length": 100
},
{
"name": "ProductName",
"type": "esriFieldTypeString",
"alias": "ProductName",
"domain": null,
"length": 100
},
{
"name": "CenterX",
"type": "esriFieldTypeDouble",
"alias": "CenterX",
"domain": null
},
{
"name": "CenterY",
"type": "esriFieldTypeDouble",
"alias": "CenterY",
"domain": null
},
{
"name": "ZOrder",
"type": "esriFieldTypeInteger",
"alias": "ZOrder",
"domain": null
},
{
"name": "Shape_Length",
"type": "esriFieldTypeDouble",
"alias": "Shape_Length",
"domain": null
},
{
"name": "Shape_Area",
"type": "esriFieldTypeDouble",
"alias": "Shape_Area",
"domain": null
}
],
"capabilities": "Image,Metadata,Catalog,Mensuration",
"defaultMosaicMethod": "Northwest",
"allowedMosaicMethods": "NorthWest,Center,LockRaster,ByAttribute,Nadir,Viewpoint,Seamline,None",
"sortField": "",
"sortValue": null,
"sortAscending": true,
"mosaicOperator": "First",
"maxDownloadSizeLimit": 2048,
"defaultCompressionQuality": 75,
"defaultResamplingMethod": "Bilinear",
"maxImageHeight": 4100,
"maxImageWidth": 15000,
"maxRecordCount": 1000,
"maxDownloadImageCount": 20,
"maxMosaicImageCount": 20,
"allowRasterFunction": true,
"rasterFunctionInfos": [
{
"name": "None",
"description": "A No-Op Function.",
"help": ""
}
],
"rasterTypeInfos": [
{
"name": "Raster Dataset",
"description": "Supports all ArcGIS Raster Datasets",
"help": ""
}
],
"mensurationCapabilities": "Basic",
"hasHistograms": true,
"hasColormap": false,
"hasRasterAttributeTable": false,
"minScale": 0,
"maxScale": 0,
"exportTilesAllowed": false,
"hasMultidimensions": false,
"supportsStatistics": true,
"supportsAdvancedQueries": true,
"editFieldsInfo": null,
"ownershipBasedAccessControlForRasters": null,
"allowComputeTiePoints": false,
"useStandardizedQueries": true,
"advancedQueryCapabilities": {
"useStandardizedQueries": true,
"supportsStatistics": true,
"supportsOrderBy": true,
"supportsDistinct": true,
"supportsPagination": true
},
"spatialReference": {
"wkid": 2036,
"latestWkid": 2953,
"vcsWkid": 6647,
"latestVcsWkid": 6647
}
}