View In:
ArcGIS JavaScript
ArcGIS Online Map Viewer
ArcGIS Earth
ArcMap
View Footprint In:
ArcGIS Online Map Viewer
Service Description: A Hillshade is a greyscale 3D representation of the terrain, with the sun’s relative position (azimuth) taken into account for shading the image. Hillshades are a qualitative method for visualizing topography and do not provide absolute elevation values. This Hillshade was created using a Digital Surface Model from first return LiDAR data, instead of bare earth data, and was created using a multidirectional method, which combines light from multiple sources/directions. This method is advantageous because it displays more detail than a traditional hillshade. Provided in New Brunswick Stereographic Double Projection with CGVD2013 vertical datum. Produced in 2025, from LiDAR data acquired between 2016-2024. L’ombrage est une représentation tridimensionnelle en nuances de gris du terrain, la position relative du soleil (l’azimut) étant prise en compte pour l’ombrage de l’image. L’ombrage est une méthode qualitative de présentation de la topographie et ne fournit pas de valeurs d’élévation absolues. Cet ombrage a été créé à partir de données des premiers retours laser d’un modèle numérique de surface LIDAR, au lieu de données de surface nue, et d’une méthode multidirectionnelle qui combine la lumière provenant de plusieurs sources et directions. Cette méthode est avantageuse, car elle permet d’afficher plus de détails qu’un ombrage traditionnel. Fourni en projection stéréographique double du Nouveau-Brunswick avec la donnée du canevas altimétrique CGVD2013.
Name: Elevation/DSM_Hillshade_Multi_MNT_Ombrage_Multiple
Description: A Hillshade is a greyscale 3D representation of the terrain, with the sun’s relative position (azimuth) taken into account for shading the image. Hillshades are a qualitative method for visualizing topography and do not provide absolute elevation values. This Hillshade was created using a Digital Surface Model from first return LiDAR data, instead of bare earth data, and was created using a multidirectional method, which combines light from multiple sources/directions. This method is advantageous because it displays more detail than a traditional hillshade. Provided in New Brunswick Stereographic Double Projection with CGVD2013 vertical datum. Produced in 2025, from LiDAR data acquired between 2016-2024. L’ombrage est une représentation tridimensionnelle en nuances de gris du terrain, la position relative du soleil (l’azimut) étant prise en compte pour l’ombrage de l’image. L’ombrage est une méthode qualitative de présentation de la topographie et ne fournit pas de valeurs d’élévation absolues. Cet ombrage a été créé à partir de données des premiers retours laser d’un modèle numérique de surface LIDAR, au lieu de données de surface nue, et d’une méthode multidirectionnelle qui combine la lumière provenant de plusieurs sources et directions. Cette méthode est avantageuse, car elle permet d’afficher plus de détails qu’un ombrage traditionnel. Fourni en projection stéréographique double du Nouveau-Brunswick avec la donnée du canevas altimétrique CGVD2013.
Single Fused Map Cache: false
Extent:
XMin: 2305999.999999999
YMin: 7274999.999999999
XMax: 2711942.999999999
YMax: 7676878.999999999
Spatial Reference: 2036
(2953)
LatestVCSWkid(0)
Initial Extent:
XMin: 2305999.999999999
YMin: 7274999.999999999
XMax: 2711942.999999999
YMax: 7676878.999999999
Spatial Reference: 2036
(2953)
LatestVCSWkid(0)
Full Extent:
XMin: 2305999.999999999
YMin: 7274999.999999999
XMax: 2711942.999999999
YMax: 7676878.999999999
Spatial Reference: 2036
(2953)
LatestVCSWkid(0)
Pixel Size X: 1.0
Pixel Size Y: 1.0
Band Count: 1
Pixel Type: U8
RasterFunction Infos: {"rasterFunctionInfos": [{
"name": "None",
"description": "A No-Op Function.",
"help": ""
}]}
Mensuration Capabilities: Basic
Has Histograms: true
Has Colormap: false
Has Multi Dimensions : false
Rendering Rule:
Min Scale: 0
Max Scale: 0
Copyright Text:
Service Data Type: esriImageServiceDataTypeGeneric
Min Values: 0
Max Values: 238
Mean Values: 74.48697863922621
Standard Deviation Values: 79.0900276281423
Object ID Field: OBJECTID
Fields:
-
OBJECTID
(
type: esriFieldTypeOID, alias: OBJECTID
)
-
Shape
(
type: esriFieldTypeGeometry, alias: Shape
)
-
Name
(
type: esriFieldTypeString, alias: Name, length: 200
)
-
MinPS
(
type: esriFieldTypeDouble, alias: MinPS
)
-
MaxPS
(
type: esriFieldTypeDouble, alias: MaxPS
)
-
LowPS
(
type: esriFieldTypeDouble, alias: LowPS
)
-
HighPS
(
type: esriFieldTypeDouble, alias: HighPS
)
-
Category
(
type: esriFieldTypeInteger, alias: Category
, Coded Values:
[0: Unknown]
, [1: Primary]
, [2: Overview]
, ...6 more...
)
-
Tag
(
type: esriFieldTypeString, alias: Tag, length: 100
)
-
GroupName
(
type: esriFieldTypeString, alias: GroupName, length: 100
)
-
ProductName
(
type: esriFieldTypeString, alias: ProductName, length: 100
)
-
CenterX
(
type: esriFieldTypeDouble, alias: CenterX
)
-
CenterY
(
type: esriFieldTypeDouble, alias: CenterY
)
-
ZOrder
(
type: esriFieldTypeInteger, alias: ZOrder
)
-
Shape_Length
(
type: esriFieldTypeDouble, alias: Shape_Length
)
-
Shape_Area
(
type: esriFieldTypeDouble, alias: Shape_Area
)
Default Mosaic Method: Northwest
Allowed Mosaic Methods: NorthWest,Center,LockRaster,ByAttribute,Nadir,Viewpoint,Seamline,None
SortField:
SortValue: null
Mosaic Operator: First
Default Compression Quality: 75
Default Resampling Method: Bilinear
Max Record Count: 1000
Max Image Height: 4100
Max Image Width: 15000
Max Download Image Count: 20
Max Mosaic Image Count: 20
Allow Raster Function: true
Allow Copy: true
Allow Analysis: true
Allow Compute TiePoints: false
Supports Statistics: true
Supports Advanced Queries: true
Use StandardizedQueries: true
Raster Type Infos:
Name: Raster Dataset
Description: Supports all ArcGIS Raster Datasets
Help:
Has Raster Attribute Table: false
Edit Fields Info: null
Ownership Based AccessControl For Rasters: null
Child Resources:
Info
Histograms
Statistics
Key Properties
Legend
Raster Function Infos
Supported Operations:
Export Image
Query
Identify
Measure
Compute Histograms
Compute Statistics Histograms
Get Samples
Compute Class Statistics
Query Boundary
Compute Pixel Location
Compute Angles
Validate
Project