{
 "currentVersion": 10.71,
 "serviceDescription": "A Hillshade is a greyscale 3D representation of the terrain, with the sun\u2019s relative position (azimuth) taken into account for shading the image. Hillshades are a qualitative method for visualizing topography and do not provide absolute elevation values. This Hillshade was created using a Digital Surface Model from first return LiDAR data, instead of bare earth data, and was created using a multidirectional method, which combines light from multiple sources/directions. This method is advantageous because it displays more detail than a traditional hillshade. \nProvided in New Brunswick Stereographic Double Projection with CGVD2013 vertical datum. Produced in 2025, from LiDAR data acquired between 2016-2024.\n\nL\u2019ombrage est une représentation tridimensionnelle en nuances de gris du terrain, la position relative du soleil (l\u2019azimut) étant prise en compte pour l\u2019ombrage de l\u2019image. L\u2019ombrage est une méthode qualitative de présentation de la topographie et ne fournit pas de valeurs d\u2019élévation absolues. Cet ombrage a été créé à partir de données des premiers retours laser d\u2019un modèle numérique de surface LIDAR, au lieu de données de surface nue, et d\u2019une méthode multidirectionnelle qui combine la lumière provenant de plusieurs sources et directions. Cette méthode est avantageuse, car elle permet d\u2019afficher plus de détails qu\u2019un ombrage traditionnel. \nFourni en projection stéréographique double du Nouveau-Brunswick avec la donnée du canevas altimétrique CGVD2013.\n",
 "name": "Elevation/DSM_Hillshade_Multi_MNT_Ombrage_Multiple",
 "description": "A Hillshade is a greyscale 3D representation of the terrain, with the sun\u2019s relative position (azimuth) taken into account for shading the image. Hillshades are a qualitative method for visualizing topography and do not provide absolute elevation values. This Hillshade was created using a Digital Surface Model from first return LiDAR data, instead of bare earth data, and was created using a multidirectional method, which combines light from multiple sources/directions. This method is advantageous because it displays more detail than a traditional hillshade. \nProvided in New Brunswick Stereographic Double Projection with CGVD2013 vertical datum. Produced in 2025, from LiDAR data acquired between 2016-2024.\n\nL\u2019ombrage est une représentation tridimensionnelle en nuances de gris du terrain, la position relative du soleil (l\u2019azimut) étant prise en compte pour l\u2019ombrage de l\u2019image. L\u2019ombrage est une méthode qualitative de présentation de la topographie et ne fournit pas de valeurs d\u2019élévation absolues. Cet ombrage a été créé à partir de données des premiers retours laser d\u2019un modèle numérique de surface LIDAR, au lieu de données de surface nue, et d\u2019une méthode multidirectionnelle qui combine la lumière provenant de plusieurs sources et directions. Cette méthode est avantageuse, car elle permet d\u2019afficher plus de détails qu\u2019un ombrage traditionnel. \nFourni en projection stéréographique double du Nouveau-Brunswick avec la donnée du canevas altimétrique CGVD2013.\n",
 "extent": {
  "xmin": 2305999.999999999,
  "ymin": 7274999.999999999,
  "xmax": 2711942.999999999,
  "ymax": 7676878.999999999,
  "spatialReference": {
   "wkid": 2036,
   "latestWkid": 2953
  }
 },
 "initialExtent": {
  "xmin": 2305999.999999999,
  "ymin": 7274999.999999999,
  "xmax": 2711942.999999999,
  "ymax": 7676878.999999999,
  "spatialReference": {
   "wkid": 2036,
   "latestWkid": 2953
  }
 },
 "fullExtent": {
  "xmin": 2305999.999999999,
  "ymin": 7274999.999999999,
  "xmax": 2711942.999999999,
  "ymax": 7676878.999999999,
  "spatialReference": {
   "wkid": 2036,
   "latestWkid": 2953
  }
 },
 "pixelSizeX": 1,
 "pixelSizeY": 1,
 "bandCount": 1,
 "pixelType": "U8",
 "minPixelSize": 0,
 "maxPixelSize": 0,
 "copyrightText": "Service New Brunswick / Service Nouveau-Brunswick",
 "serviceDataType": "esriImageServiceDataTypeGeneric",
 "minValues": [
  0
 ],
 "maxValues": [
  238
 ],
 "meanValues": [
  74.48697863922621
 ],
 "stdvValues": [
  79.0900276281423
 ],
 "objectIdField": "OBJECTID",
 "fields": [
  {
   "name": "OBJECTID",
   "type": "esriFieldTypeOID",
   "alias": "OBJECTID",
   "domain": null
  },
  {
   "name": "Shape",
   "type": "esriFieldTypeGeometry",
   "alias": "Shape",
   "domain": null
  },
  {
   "name": "Name",
   "type": "esriFieldTypeString",
   "alias": "Name",
   "domain": null,
   "length": 200
  },
  {
   "name": "MinPS",
   "type": "esriFieldTypeDouble",
   "alias": "MinPS",
   "domain": null
  },
  {
   "name": "MaxPS",
   "type": "esriFieldTypeDouble",
   "alias": "MaxPS",
   "domain": null
  },
  {
   "name": "LowPS",
   "type": "esriFieldTypeDouble",
   "alias": "LowPS",
   "domain": null
  },
  {
   "name": "HighPS",
   "type": "esriFieldTypeDouble",
   "alias": "HighPS",
   "domain": null
  },
  {
   "name": "Category",
   "type": "esriFieldTypeInteger",
   "alias": "Category",
   "domain": {
    "type": "codedValue",
    "name": "MosaicCatalogItemCategoryDomain",
    "description": "Catalog item categories.",
    "codedValues": [
     {
      "name": "Unknown",
      "code": 0
     },
     {
      "name": "Primary",
      "code": 1
     },
     {
      "name": "Overview",
      "code": 2
     },
     {
      "name": "Unprocessed Overview",
      "code": 3
     },
     {
      "name": "Partial Overview",
      "code": 4
     },
     {
      "name": "Inactive",
      "code": 5
     },
     {
      "name": "Uploaded",
      "code": 253
     },
     {
      "name": "Incomplete",
      "code": 254
     },
     {
      "name": "Custom",
      "code": 255
     }
    ],
    "mergePolicy": "esriMPTDefaultValue",
    "splitPolicy": "esriSPTDefaultValue"
   }
  },
  {
   "name": "Tag",
   "type": "esriFieldTypeString",
   "alias": "Tag",
   "domain": null,
   "length": 100
  },
  {
   "name": "GroupName",
   "type": "esriFieldTypeString",
   "alias": "GroupName",
   "domain": null,
   "length": 100
  },
  {
   "name": "ProductName",
   "type": "esriFieldTypeString",
   "alias": "ProductName",
   "domain": null,
   "length": 100
  },
  {
   "name": "CenterX",
   "type": "esriFieldTypeDouble",
   "alias": "CenterX",
   "domain": null
  },
  {
   "name": "CenterY",
   "type": "esriFieldTypeDouble",
   "alias": "CenterY",
   "domain": null
  },
  {
   "name": "ZOrder",
   "type": "esriFieldTypeInteger",
   "alias": "ZOrder",
   "domain": null
  },
  {
   "name": "Shape_Length",
   "type": "esriFieldTypeDouble",
   "alias": "Shape_Length",
   "domain": null
  },
  {
   "name": "Shape_Area",
   "type": "esriFieldTypeDouble",
   "alias": "Shape_Area",
   "domain": null
  }
 ],
 "capabilities": "Catalog,Mensuration,Image,Metadata",
 "defaultMosaicMethod": "Northwest",
 "allowedMosaicMethods": "NorthWest,Center,LockRaster,ByAttribute,Nadir,Viewpoint,Seamline,None",
 "sortField": "",
 "sortValue": null,
 "mosaicOperator": "First",
 "maxDownloadSizeLimit": 2048,
 "defaultCompressionQuality": 75,
 "defaultResamplingMethod": "Bilinear",
 "maxImageHeight": 4100,
 "maxImageWidth": 15000,
 "maxRecordCount": 1000,
 "maxDownloadImageCount": 20,
 "maxMosaicImageCount": 20,
 "allowRasterFunction": true,
 "rasterFunctionInfos": [
  {
   "name": "None",
   "description": "A No-Op Function.",
   "help": ""
  }
 ],
 "rasterTypeInfos": [
  {
   "name": "Raster Dataset",
   "description": "Supports all ArcGIS Raster Datasets",
   "help": ""
  }
 ],
 "mensurationCapabilities": "Basic",
 "hasHistograms": true,
 "hasColormap": false,
 "hasRasterAttributeTable": false,
 "minScale": 0,
 "maxScale": 0,
 "exportTilesAllowed": false,
 "hasMultidimensions": false,
 "supportsStatistics": true,
 "supportsAdvancedQueries": true,
 "editFieldsInfo": null,
 "ownershipBasedAccessControlForRasters": null,
 "allowComputeTiePoints": false,
 "useStandardizedQueries": true,
 "advancedQueryCapabilities": {
  "useStandardizedQueries": true,
  "supportsStatistics": true,
  "supportsOrderBy": true,
  "supportsDistinct": true,
  "supportsPagination": true
 },
 "spatialReference": {
  "wkid": 2036,
  "latestWkid": 2953
 }
}
