View In:
ArcGIS JavaScript
ArcGIS Online Map Viewer
ArcGIS Earth
ArcMap
View Footprint In:
ArcGIS Online Map Viewer
Service Description: A 1m resolution Digital Surface Model (DSM) of New Brunswick. Derived from 6pt/m2 and 20pt/m2 first returns LiDAR data, which includes features such as buildings, tree canopy, powerlines, and other feature above bare earth.
Provided in New Brunswick Stereographic Double Projection with CGVD2013 vertical datum. Produced in 2025, from LiDAR data acquired between 2016-2024.
Un modèle numérique de surface (MNS) du Nouveau-Brunswick offrant une résolution de 1 m. Dérivé des données des premiers retours laser LIDAR de 6 points par m2, qui comprennent des éléments comme les bâtiments, le couvert des arbres, les lignes électriques et d’autres éléments qui se trouvent au-dessus de la surface à nu.
Fourni en projection stéréographique double du Nouveau-Brunswick avec la donnée du canevas altimétrique CGVD2013.
Name: Elevation/DSM_Raw_MNT_Brut
Description: A 1m resolution Digital Surface Model (DSM) of New Brunswick. Derived from 6pt/m2 and 20pt/m2 first returns LiDAR data, which includes features such as buildings, tree canopy, powerlines, and other feature above bare earth.
Provided in New Brunswick Stereographic Double Projection with CGVD2013 vertical datum. Produced in 2025, from LiDAR data acquired between 2016-2024.
Un modèle numérique de surface (MNS) du Nouveau-Brunswick offrant une résolution de 1 m. Dérivé des données des premiers retours laser LIDAR de 6 points par m2, qui comprennent des éléments comme les bâtiments, le couvert des arbres, les lignes électriques et d’autres éléments qui se trouvent au-dessus de la surface à nu.
Fourni en projection stéréographique double du Nouveau-Brunswick avec la donnée du canevas altimétrique CGVD2013.
Single Fused Map Cache: false
Extent:
XMin: 2305999.999999999
YMin: 7274999.999999999
XMax: 2711942.999999999
YMax: 7676878.999999999
Spatial Reference: 2036
(2953)
VCSWkid(6647)
LatestVCSWkid(6647)
Initial Extent:
XMin: 2305999.999999999
YMin: 7274999.999999999
XMax: 2711942.999999999
YMax: 7676878.999999999
Spatial Reference: 2036
(2953)
VCSWkid(6647)
LatestVCSWkid(6647)
Full Extent:
XMin: 2305999.999999999
YMin: 7274999.999999999
XMax: 2711942.999999999
YMax: 7676878.999999999
Spatial Reference: 2036
(2953)
VCSWkid(6647)
LatestVCSWkid(6647)
Pixel Size X: 1.0
Pixel Size Y: 1.0
Band Count: 1
Pixel Type: F32
RasterFunction Infos: {"rasterFunctionInfos": [{
"name": "None",
"description": "Make a Raster or Raster Dataset into a Function Raster Dataset.",
"help": ""
}]}
Mensuration Capabilities:
Has Histograms: true
Has Colormap: false
Has Multi Dimensions : false
Rendering Rule:
Min Scale: 0
Max Scale: 0
Copyright Text: Service New Brunswick / Service Nouveau-Brunswick
Service Data Type: esriImageServiceDataTypeGeneric
Min Values: -164.321044921875
Max Values: 820.083251953125
Mean Values: 179.61248100221945
Standard Deviation Values: 139.53271339312587
Object ID Field: OBJECTID
Fields:
-
OBJECTID
(
type: esriFieldTypeOID, alias: OBJECTID
)
-
Shape
(
type: esriFieldTypeGeometry, alias: Shape
)
-
Name
(
type: esriFieldTypeString, alias: Name, length: 200
)
-
MinPS
(
type: esriFieldTypeDouble, alias: MinPS
)
-
MaxPS
(
type: esriFieldTypeDouble, alias: MaxPS
)
-
LowPS
(
type: esriFieldTypeDouble, alias: LowPS
)
-
HighPS
(
type: esriFieldTypeDouble, alias: HighPS
)
-
Category
(
type: esriFieldTypeInteger, alias: Category
, Coded Values:
[0: Unknown]
, [1: Primary]
, [2: Overview]
, ...6 more...
)
-
Tag
(
type: esriFieldTypeString, alias: Tag, length: 100
)
-
GroupName
(
type: esriFieldTypeString, alias: GroupName, length: 100
)
-
ProductName
(
type: esriFieldTypeString, alias: ProductName, length: 100
)
-
CenterX
(
type: esriFieldTypeDouble, alias: CenterX
)
-
CenterY
(
type: esriFieldTypeDouble, alias: CenterY
)
-
ZOrder
(
type: esriFieldTypeInteger, alias: ZOrder
)
-
Shape_Length
(
type: esriFieldTypeDouble, alias: Shape_Length
)
-
Shape_Area
(
type: esriFieldTypeDouble, alias: Shape_Area
)
Default Mosaic Method: Northwest
Allowed Mosaic Methods: NorthWest,Center,LockRaster,ByAttribute,Nadir,Viewpoint,Seamline,None
SortField:
SortValue: null
Mosaic Operator: First
Default Compression Quality: 80
Default Resampling Method: Bilinear
Max Record Count: 1000
Max Image Height: 4100
Max Image Width: 15000
Max Download Image Count: 20
Max Mosaic Image Count: 20
Allow Raster Function: true
Allow Copy: true
Allow Analysis: true
Allow Compute TiePoints: false
Supports Statistics: true
Supports Advanced Queries: true
Use StandardizedQueries: true
Raster Type Infos:
Name: Raster Dataset
Description: Supports all ArcGIS Raster Datasets
Help:
Has Raster Attribute Table: false
Edit Fields Info: null
Ownership Based AccessControl For Rasters: null
Child Resources:
Info
Histograms
Statistics
Key Properties
Legend
Raster Function Infos
Supported Operations:
Export Image
Query
Identify
Compute Histograms
Compute Statistics Histograms
Get Samples
Compute Class Statistics
Query Boundary
Compute Pixel Location
Compute Angles
Validate
Project