View In:
ArcGIS JavaScript
ArcGIS Online Map Viewer
ArcGIS Earth
ArcMap
View Footprint In:
ArcGIS Online Map Viewer
Service Description: A slope map describes the steepness of the terrain. The steepness of a slope may be measured by percent, determined by the rate of change of elevation over a given horizontal distance, in which the rise is divided by the run and then multiplied by one hundred. A flat surface is 0 percent, a 45 degree surface is 100 percent.
Provided in New Brunswick Stereographic Double Projection with CGVD2013 vertical datum. Produced in 2020, from LiDAR data acquired between 2015-2018.
Une carte des pentes indique l’inclinaison du terrain. L’inclinaison d’une pente peut être mesurée en pourcentage, déterminé par le taux de changement d’élévation sur une distance horizontale donnée pour laquelle la hauteur est divisée par la longueur puis multipliée par cent. Une surface plane mesure 0 pour cent, une surface à 45 degrés mesure 100 pour cent.
Fourni en projection stéréographique double du Nouveau-Brunswick avec la donnée du canevas altimétrique CGVD2013.
Name: Elevation/DEM_Slope_Percent_MNE_Pente_Pourcentage
Description: A slope map describes the steepness of the terrain. The steepness of a slope may be measured by percent, determined by the rate of change of elevation over a given horizontal distance, in which the rise is divided by the run and then multiplied by one hundred. A flat surface is 0 percent, a 45 degree surface is 100 percent.
Provided in New Brunswick Stereographic Double Projection with CGVD2013 vertical datum. Produced in 2020, from LiDAR data acquired between 2015-2018.
Une carte des pentes indique l’inclinaison du terrain. L’inclinaison d’une pente peut être mesurée en pourcentage, déterminé par le taux de changement d’élévation sur une distance horizontale donnée pour laquelle la hauteur est divisée par la longueur puis multipliée par cent. Une surface plane mesure 0 pour cent, une surface à 45 degrés mesure 100 pour cent.
Fourni en projection stéréographique double du Nouveau-Brunswick avec la donnée du canevas altimétrique CGVD2013.
Single Fused Map Cache: false
Extent:
XMin: 2305999.5403999984
YMin: 7274999.904218759
XMax: 2711945.5403999984
YMax: 7676879.904218759
Spatial Reference: 2036
(2953)
Initial Extent:
XMin: 2305999.5403999984
YMin: 7274999.904218759
XMax: 2711945.5403999984
YMax: 7676879.904218759
Spatial Reference: 2036
(2953)
Full Extent:
XMin: 2305999.5403999984
YMin: 7274999.904218759
XMax: 2711945.5403999984
YMax: 7676879.904218759
Spatial Reference: 2036
(2953)
Pixel Size X: 2.0
Pixel Size Y: 2.0
Band Count: 1
Pixel Type: F32
RasterFunction Infos: {"rasterFunctionInfos": [{
"name": "None",
"description": "",
"help": ""
}]}
Mensuration Capabilities: Basic
Has Histograms: true
Has Colormap: false
Has Multi Dimensions : false
Rendering Rule:
Min Scale: 0
Max Scale: 0
Copyright Text: Service New Brunswick / Service Nouveau-Brunswick
Service Data Type: esriImageServiceDataTypeGeneric
Min Values: 2.0891542434692383
Max Values: 1067.5578184127808
Mean Values: 9.47688750852195
Standard Deviation Values: 14.389430434153757
Object ID Field: OBJECTID
Fields:
-
OBJECTID
(
type: esriFieldTypeOID, alias: OBJECTID
)
-
Shape
(
type: esriFieldTypeGeometry, alias: Shape
)
-
Name
(
type: esriFieldTypeString, alias: Name, length: 200
)
-
MinPS
(
type: esriFieldTypeDouble, alias: MinPS
)
-
MaxPS
(
type: esriFieldTypeDouble, alias: MaxPS
)
-
LowPS
(
type: esriFieldTypeDouble, alias: LowPS
)
-
HighPS
(
type: esriFieldTypeDouble, alias: HighPS
)
-
Category
(
type: esriFieldTypeInteger, alias: Category
, Coded Values:
[0: Unknown]
, [1: Primary]
, [2: Overview]
, ...6 more...
)
-
Tag
(
type: esriFieldTypeString, alias: Tag, length: 100
)
-
GroupName
(
type: esriFieldTypeString, alias: GroupName, length: 100
)
-
ProductName
(
type: esriFieldTypeString, alias: ProductName, length: 100
)
-
CenterX
(
type: esriFieldTypeDouble, alias: CenterX
)
-
CenterY
(
type: esriFieldTypeDouble, alias: CenterY
)
-
ZOrder
(
type: esriFieldTypeInteger, alias: ZOrder
)
-
Shape_Length
(
type: esriFieldTypeDouble, alias: Shape_Length
)
-
Shape_Area
(
type: esriFieldTypeDouble, alias: Shape_Area
)
Default Mosaic Method: Northwest
Allowed Mosaic Methods: NorthWest,Center,LockRaster,ByAttribute,Nadir,Viewpoint,Seamline,None
SortField:
SortValue: null
Mosaic Operator: First
Default Compression Quality: 75
Default Resampling Method: Bilinear
Max Record Count: 1000
Max Image Height: 4100
Max Image Width: 15000
Max Download Image Count: 20
Max Mosaic Image Count: 20
Allow Raster Function: true
Allow Compute TiePoints: false
Supports Statistics: true
Supports Advanced Queries: true
Use StandardizedQueries: true
Raster Type Infos:
Name: Raster Dataset
Description: Supports all ArcGIS Raster Datasets
Help:
Has Raster Attribute Table: false
Edit Fields Info: null
Ownership Based AccessControl For Rasters: null
Child Resources:
Info
Histograms
Key Properties
Legend
MultiDimensionalInfo
rasterFunctionInfos
Supported Operations:
Export Image
Identify
Measure
Compute Histograms
Compute Statistics Histograms
Get Samples
Compute Class Statistics
Query Boundary
Compute Pixel Location