View In:
ArcGIS JavaScript
ArcGIS Online Map Viewer
ArcGIS Earth
ArcMap
View Footprint In:
ArcGIS Online Map Viewer
Service Description: Aspect describes the compass direction in which a plane, fitted to the slope of the terrain faces. Aspect can be generated from continuous elevation surfaces and is usually described in degrees from North. Provided in New Brunswick Stereographic Double Projection with CGVD2013 vertical datum. Produced in 2020, from LiDAR data acquired between 2015-2018. Partially updated in 2025, from LiDAR data acquired in 2024.
L’aspect indique la direction de compas d’une surface ajustée à l’orientation de la pente du terrain. L’aspect peut être généré à partir de surfaces d’élévation continues et est généralement décrit en degrés par rapport au nord.
Fourni en projection stéréographique double du Nouveau-Brunswick avec la donnée du canevas altimétrique CGVD2013.
Name: Elevation/DEM_Aspect_MNE_Aspect
Description: Aspect describes the compass direction in which a plane, fitted to the slope of the terrain faces. Aspect can be generated from continuous elevation surfaces and is usually described in degrees from North. Provided in New Brunswick Stereographic Double Projection with CGVD2013 vertical datum. Produced in 2020, from LiDAR data acquired between 2015-2018. Partially updated in 2025, from LiDAR data acquired in 2024.
L’aspect indique la direction de compas d’une surface ajustée à l’orientation de la pente du terrain. L’aspect peut être généré à partir de surfaces d’élévation continues et est généralement décrit en degrés par rapport au nord.
Fourni en projection stéréographique double du Nouveau-Brunswick avec la donnée du canevas altimétrique CGVD2013.
Single Fused Map Cache: false
Extent:
XMin: 2305998.5403999984
YMin: 7274998.904218759
XMax: 2711942.5403999984
YMax: 7676879.904218759
Spatial Reference: 2036
(2953)
VCSWkid(6647)
LatestVCSWkid(6647)
Initial Extent:
XMin: 2305998.5403999984
YMin: 7274998.904218759
XMax: 2711942.5403999984
YMax: 7676879.904218759
Spatial Reference: 2036
(2953)
VCSWkid(6647)
LatestVCSWkid(6647)
Full Extent:
XMin: 2305998.5403999984
YMin: 7274998.904218759
XMax: 2711942.5403999984
YMax: 7676879.904218759
Spatial Reference: 2036
(2953)
VCSWkid(6647)
LatestVCSWkid(6647)
Pixel Size X: 1.0
Pixel Size Y: 1.0
Band Count: 1
Pixel Type: F32
RasterFunction Infos: {"rasterFunctionInfos": [{
"name": "None",
"description": "Make a Raster or Raster Dataset into a Function Raster Dataset.",
"help": ""
}]}
Mensuration Capabilities: Basic
Has Histograms: true
Has Colormap: false
Has Multi Dimensions : false
Rendering Rule:
Min Scale: 0
Max Scale: 0
Copyright Text: Service New Brunswick / Service Nouveau-Brunswick
Service Data Type: esriImageServiceDataTypeGeneric
Min Values: -0.2949219346046448
Max Values: 359.2948914170265
Mean Values: 172.12345350684436
Standard Deviation Values: 103.75756151373494
Object ID Field: OBJECTID
Fields:
-
OBJECTID
(
type: esriFieldTypeOID, alias: OBJECTID
)
-
Shape
(
type: esriFieldTypeGeometry, alias: Shape
)
-
Name
(
type: esriFieldTypeString, alias: Name, length: 200
)
-
MinPS
(
type: esriFieldTypeDouble, alias: MinPS
)
-
MaxPS
(
type: esriFieldTypeDouble, alias: MaxPS
)
-
LowPS
(
type: esriFieldTypeDouble, alias: LowPS
)
-
HighPS
(
type: esriFieldTypeDouble, alias: HighPS
)
-
Category
(
type: esriFieldTypeInteger, alias: Category
, Coded Values:
[0: Unknown]
, [1: Primary]
, [2: Overview]
, ...6 more...
)
-
Tag
(
type: esriFieldTypeString, alias: Tag, length: 100
)
-
GroupName
(
type: esriFieldTypeString, alias: GroupName, length: 100
)
-
ProductName
(
type: esriFieldTypeString, alias: ProductName, length: 100
)
-
CenterX
(
type: esriFieldTypeDouble, alias: CenterX
)
-
CenterY
(
type: esriFieldTypeDouble, alias: CenterY
)
-
ZOrder
(
type: esriFieldTypeInteger, alias: ZOrder
)
-
Shape_Length
(
type: esriFieldTypeDouble, alias: Shape_Length
)
-
Shape_Area
(
type: esriFieldTypeDouble, alias: Shape_Area
)
Default Mosaic Method: Northwest
Allowed Mosaic Methods: NorthWest,Center,LockRaster,ByAttribute,Nadir,Viewpoint,Seamline,None
SortField:
SortValue: null
Mosaic Operator: First
Default Compression Quality: 75
Default Resampling Method: Bilinear
Max Record Count: 1000
Max Image Height: 4100
Max Image Width: 15000
Max Download Image Count: 20
Max Mosaic Image Count: 20
Allow Raster Function: true
Allow Copy: true
Allow Analysis: true
Allow Compute TiePoints: false
Supports Statistics: true
Supports Advanced Queries: true
Use StandardizedQueries: true
Raster Type Infos:
Name: Raster Dataset
Description: Supports all ArcGIS Raster Datasets
Help:
Has Raster Attribute Table: false
Edit Fields Info: null
Ownership Based AccessControl For Rasters: null
Child Resources:
Info
Histograms
Statistics
Key Properties
Legend
Raster Function Infos
Supported Operations:
Export Image
Identify
Measure
Compute Histograms
Compute Statistics Histograms
Get Samples
Compute Class Statistics
Query Boundary
Compute Pixel Location
Compute Angles
Validate
Project