{
"currentVersion": 10.71,
"serviceDescription": "New Brunswick orthoimagery acquired in 2017 with a 7.5cm resolution / Orthoimages du Nouveau-Brunswick acquises en 2017 avec une résolution de 7,5 cm\n",
"name": "Imagery/NB_2017",
"description": "New Brunswick orthoimagery acquired in 2017 with a 7.5cm resolution / Orthoimages du Nouveau-Brunswick acquises en 2017 avec une résolution de 7,5 cm\n",
"extent": {
"xmin": 2331300,
"ymin": 7289625,
"xmax": 2705850,
"ymax": 7675275,
"spatialReference": {
"wkid": 2036,
"latestWkid": 2953,
"vcsWkid": 6647,
"latestVcsWkid": 6647
}
},
"initialExtent": {
"xmin": 2331300,
"ymin": 7289625,
"xmax": 2705850,
"ymax": 7675275,
"spatialReference": {
"wkid": 2036,
"latestWkid": 2953,
"vcsWkid": 6647,
"latestVcsWkid": 6647
}
},
"fullExtent": {
"xmin": 2331300,
"ymin": 7289625,
"xmax": 2705850,
"ymax": 7675275,
"spatialReference": {
"wkid": 2036,
"latestWkid": 2953,
"vcsWkid": 6647,
"latestVcsWkid": 6647
}
},
"heightModelInfo": {
"heightModel": "gravity_related_height",
"vertCRS": "CGVD2013_height",
"heightUnit": "meter"
},
"pixelSizeX": 0.075,
"pixelSizeY": 0.075,
"bandCount": 3,
"pixelType": "U8",
"minPixelSize": 0,
"maxPixelSize": 0,
"copyrightText": "Service New Brunswick / Service Nouveau-Brunswick",
"serviceDataType": "esriImageServiceDataTypeRGB",
"minValues": [
13,
19,
21
],
"maxValues": [
246,
237,
206
],
"meanValues": [
134.45296371598522,
123.50879730997787,
93.67320925867934
],
"stdvValues": [
31.594742881155256,
24.58632289572705,
21.442004512100375
],
"objectIdField": "OBJECTID",
"fields": [
{
"name": "OBJECTID",
"type": "esriFieldTypeOID",
"alias": "OBJECTID",
"domain": null
},
{
"name": "Shape",
"type": "esriFieldTypeGeometry",
"alias": "Shape",
"domain": null
},
{
"name": "Name",
"type": "esriFieldTypeString",
"alias": "Name",
"domain": null,
"length": 200
},
{
"name": "MinPS",
"type": "esriFieldTypeDouble",
"alias": "MinPS",
"domain": null
},
{
"name": "MaxPS",
"type": "esriFieldTypeDouble",
"alias": "MaxPS",
"domain": null
},
{
"name": "LowPS",
"type": "esriFieldTypeDouble",
"alias": "LowPS",
"domain": null
},
{
"name": "HighPS",
"type": "esriFieldTypeDouble",
"alias": "HighPS",
"domain": null
},
{
"name": "Category",
"type": "esriFieldTypeInteger",
"alias": "Category",
"domain": {
"type": "codedValue",
"name": "MosaicCatalogItemCategoryDomain",
"description": "Catalog item categories.",
"codedValues": [
{
"name": "Unknown",
"code": 0
},
{
"name": "Primary",
"code": 1
},
{
"name": "Overview",
"code": 2
},
{
"name": "Unprocessed Overview",
"code": 3
},
{
"name": "Partial Overview",
"code": 4
},
{
"name": "Inactive",
"code": 5
},
{
"name": "Uploaded",
"code": 253
},
{
"name": "Incomplete",
"code": 254
},
{
"name": "Custom",
"code": 255
}
],
"mergePolicy": "esriMPTDefaultValue",
"splitPolicy": "esriSPTDefaultValue"
}
},
{
"name": "Tag",
"type": "esriFieldTypeString",
"alias": "Tag",
"domain": null,
"length": 100
},
{
"name": "GroupName",
"type": "esriFieldTypeString",
"alias": "GroupName",
"domain": null,
"length": 100
},
{
"name": "ProductName",
"type": "esriFieldTypeString",
"alias": "ProductName",
"domain": null,
"length": 100
},
{
"name": "CenterX",
"type": "esriFieldTypeDouble",
"alias": "CenterX",
"domain": null
},
{
"name": "CenterY",
"type": "esriFieldTypeDouble",
"alias": "CenterY",
"domain": null
},
{
"name": "ZOrder",
"type": "esriFieldTypeInteger",
"alias": "ZOrder",
"domain": null
},
{
"name": "Shape_Length",
"type": "esriFieldTypeDouble",
"alias": "Shape_Length",
"domain": null
},
{
"name": "Shape_Area",
"type": "esriFieldTypeDouble",
"alias": "Shape_Area",
"domain": null
}
],
"capabilities": "Image,Metadata,Catalog",
"defaultMosaicMethod": "Northwest",
"allowedMosaicMethods": "NorthWest,Center,LockRaster,ByAttribute,Nadir,Viewpoint,Seamline,None",
"sortField": "",
"sortValue": null,
"mosaicOperator": "First",
"maxDownloadSizeLimit": 2048,
"defaultCompressionQuality": 75,
"defaultResamplingMethod": "Bilinear",
"maxImageHeight": 4100,
"maxImageWidth": 15000,
"maxRecordCount": 1000,
"maxDownloadImageCount": 20,
"maxMosaicImageCount": 20,
"allowRasterFunction": true,
"rasterFunctionInfos": [
{
"name": "None",
"description": "",
"help": ""
}
],
"rasterTypeInfos": [
{
"name": "Raster Dataset",
"description": "Supports all ArcGIS Raster Datasets",
"help": ""
}
],
"mensurationCapabilities": "None",
"hasHistograms": true,
"hasColormap": false,
"hasRasterAttributeTable": false,
"minScale": 0,
"maxScale": 0,
"exportTilesAllowed": false,
"hasMultidimensions": false,
"supportsStatistics": true,
"supportsAdvancedQueries": true,
"editFieldsInfo": null,
"ownershipBasedAccessControlForRasters": null,
"allowComputeTiePoints": false,
"useStandardizedQueries": true,
"advancedQueryCapabilities": {
"useStandardizedQueries": true,
"supportsStatistics": true,
"supportsOrderBy": true,
"supportsDistinct": true,
"supportsPagination": true
},
"spatialReference": {
"wkid": 2036,
"latestWkid": 2953,
"vcsWkid": 6647,
"latestVcsWkid": 6647
}
}