<?xml version="1.0" encoding="UTF-8" standalone="no"?>
<metadata xml:lang="en">
<Esri>
<CreaDate>20201202</CreaDate>
<CreaTime>16572500</CreaTime>
<ArcGISFormat>1.0</ArcGISFormat>
<SyncOnce>FALSE</SyncOnce>
<DataProperties>
<lineage>
<Process Date="20201202" Time="165725" ToolSource="c:\program files (x86)\arcgis\desktop10.7\ArcToolbox\Toolboxes\Data Management Tools.tbx\CreateMosaicDataset">CreateMosaicDataset \\S51IWVGEOAPP02\Imagery\Mosaic_datasets\SNB.gdb DEM_Slope_Degree "PROJCS['NAD_1983_CSRS_New_Brunswick_Stereographic',GEOGCS['GCS_North_American_1983_CSRS',DATUM['D_North_American_1983_CSRS',SPHEROID['GRS_1980',6378137.0,298.257222101]],PRIMEM['Greenwich',0.0],UNIT['Degree',0.0174532925199433]],PROJECTION['Double_Stereographic'],PARAMETER['False_Easting',2500000.0],PARAMETER['False_Northing',7500000.0],PARAMETER['Central_Meridian',-66.5],PARAMETER['Scale_Factor',0.999912],PARAMETER['Latitude_Of_Origin',46.5],UNIT['Meter',1.0]];-28216700 -23260100 10000;-100000 10000;-100000 10000;0.001;0.001;0.001;IsHighPrecision" # # NONE #</Process>
<Process Date="20201202" Time="170316" ToolSource="c:\program files (x86)\arcgis\desktop10.7\ArcToolbox\Toolboxes\Data Management Tools.tbx\CalculateStatistics">CalculateStatistics \\S51IWVGEOAPP02\Imagery\Mosaic_datasets\SNB.gdb\DEM_Slope_Degree 4 4 # SKIP_EXISTING "Feature Set"</Process>
<Process Date="20201202" Time="171425" ToolSource="c:\program files (x86)\arcgis\desktop10.7\ArcToolbox\Toolboxes\Data Management Tools.tbx\AnalyzeMosaicDataset">AnalyzeMosaicDataset \\S51IWVGEOAPP02\Imagery\Mosaic_datasets\SNB.gdb\DEM_Slope_Degree # FOOTPRINT;FUNCTION;RASTER;PATHS</Process>
<Process Date="20201217" Time="153120" ToolSource="c:\program files (x86)\arcgis\desktop10.7\ArcToolbox\Toolboxes\Data Management Tools.tbx\AnalyzeMosaicDataset">AnalyzeMosaicDataset \\S51IWVGEOAPP02\Imagery\Mosaic_datasets\SNB.gdb\DEM_Slope_Degree # FOOTPRINT;FUNCTION;RASTER;PATHS</Process>
<Process Date="20210105" Time="084553" ToolSource="c:\program files (x86)\arcgis\desktop10.7\ArcToolbox\Toolboxes\Data Management Tools.tbx\BuildOverviews">BuildOverviews \\S51IWVGEOAPP02\Imagery\Mosaic_datasets\SNB.gdb\DEM_Slope_Degree # DEFINE_MISSING_TILES GENERATE_OVERVIEWS GENERATE_MISSING_IMAGES REGENERATE_STALE_IMAGES</Process>
<Process Date="20251020" Time="093339" ToolSource="c:\program files\arcgis\pro\Resources\ArcToolbox\toolboxes\Data Management Tools.tbx\AddRastersToMosaicDataset">AddRastersToMosaicDataset \\S51IWVGEOAPP02\Imagery\Mosaic_datasets\SNB.gdb\DEM_Slope_Degree "Raster Dataset" \\S51IWVGEOAPP02\Imagery\Image_Services\Elevation\DEM_Slope_Degree_2024.tif UPDATE_CELL_SIZES UPDATE_BOUNDARY NO_OVERVIEWS # 0 1500 # # SUBFOLDERS "Allow duplicates" NO_PYRAMIDS NO_STATISTICS NO_THUMBNAILS # NO_FORCE_SPATIAL_REFERENCE NO_STATISTICS # NO_PIXEL_CACHE C:\Users\LChessie\AppData\Local\ESRI\rasterproxies\DEM_Slope_Degree</Process>
</lineage>
<itemProps>
<itemName Sync="TRUE">DEM_Slope_Degree</itemName>
<itemLocation>
<linkage Sync="TRUE">file://\\S51IWVGEOAPP02\Imagery\Mosaic_datasets\SNB.gdb</linkage>
<protocol Sync="TRUE">Local Area Network</protocol>
</itemLocation>
<nativeExtBox>
<westBL Sync="TRUE">2305999.540400</westBL>
<eastBL Sync="TRUE">2711945.540400</eastBL>
<southBL Sync="TRUE">7274999.904219</southBL>
<northBL Sync="TRUE">7676879.904219</northBL>
<exTypeCode Sync="TRUE">1</exTypeCode>
</nativeExtBox>
</itemProps>
<coordRef>
<type Sync="TRUE">Projected</type>
<geogcsn Sync="TRUE">GCS_North_American_1983_CSRS</geogcsn>
<csUnits Sync="TRUE">Linear Unit: Meter (1.000000)</csUnits>
<projcsn Sync="TRUE">NAD_1983_CSRS_New_Brunswick_Stereographic</projcsn>
<peXml Sync="TRUE">&lt;ProjectedCoordinateSystem xsi:type='typens:ProjectedCoordinateSystem' xmlns:xsi='http://www.w3.org/2001/XMLSchema-instance' xmlns:xs='http://www.w3.org/2001/XMLSchema' xmlns:typens='http://www.esri.com/schemas/ArcGIS/10.7'&gt;&lt;WKT&gt;PROJCS[&amp;quot;NAD_1983_CSRS_New_Brunswick_Stereographic&amp;quot;,GEOGCS[&amp;quot;GCS_North_American_1983_CSRS&amp;quot;,DATUM[&amp;quot;D_North_American_1983_CSRS&amp;quot;,SPHEROID[&amp;quot;GRS_1980&amp;quot;,6378137.0,298.257222101]],PRIMEM[&amp;quot;Greenwich&amp;quot;,0.0],UNIT[&amp;quot;Degree&amp;quot;,0.0174532925199433]],PROJECTION[&amp;quot;Double_Stereographic&amp;quot;],PARAMETER[&amp;quot;False_Easting&amp;quot;,2500000.0],PARAMETER[&amp;quot;False_Northing&amp;quot;,7500000.0],PARAMETER[&amp;quot;Central_Meridian&amp;quot;,-66.5],PARAMETER[&amp;quot;Scale_Factor&amp;quot;,0.999912],PARAMETER[&amp;quot;Latitude_Of_Origin&amp;quot;,46.5],UNIT[&amp;quot;Meter&amp;quot;,1.0],AUTHORITY[&amp;quot;EPSG&amp;quot;,2953]]&lt;/WKT&gt;&lt;XOrigin&gt;-28216700&lt;/XOrigin&gt;&lt;YOrigin&gt;-23260100&lt;/YOrigin&gt;&lt;XYScale&gt;146555990.15834904&lt;/XYScale&gt;&lt;ZOrigin&gt;-100000&lt;/ZOrigin&gt;&lt;ZScale&gt;10000&lt;/ZScale&gt;&lt;MOrigin&gt;-100000&lt;/MOrigin&gt;&lt;MScale&gt;10000&lt;/MScale&gt;&lt;XYTolerance&gt;0.001&lt;/XYTolerance&gt;&lt;ZTolerance&gt;0.001&lt;/ZTolerance&gt;&lt;MTolerance&gt;0.001&lt;/MTolerance&gt;&lt;HighPrecision&gt;true&lt;/HighPrecision&gt;&lt;WKID&gt;2036&lt;/WKID&gt;&lt;LatestWKID&gt;2953&lt;/LatestWKID&gt;&lt;/ProjectedCoordinateSystem&gt;</peXml>
</coordRef>
<RasterProperties>
<General>
<PixelDepth Sync="TRUE">32</PixelDepth>
<HasColormap Sync="TRUE">FALSE</HasColormap>
<CompressionType Sync="TRUE">None</CompressionType>
<NumBands Sync="TRUE">1</NumBands>
<Format Sync="TRUE">AMD</Format>
<HasPyramids Sync="TRUE">TRUE</HasPyramids>
<SourceType Sync="TRUE">continuous</SourceType>
<PixelType Sync="TRUE">floating point</PixelType>
<NoDataValue Sync="TRUE"/>
</General>
<Properties>
<MaxImageHeight Sync="TRUE">4100</MaxImageHeight>
<MaxImageWidth Sync="TRUE">15000</MaxImageWidth>
<MaxRecordCount Sync="TRUE">1000</MaxRecordCount>
<MaxDownloadImageCount Sync="TRUE">20</MaxDownloadImageCount>
<MaxDownloadSizeLimit Sync="TRUE">2048</MaxDownloadSizeLimit>
<MaxMosaicImageCount Sync="TRUE">20</MaxMosaicImageCount>
<DefaultCompressionQuality Sync="TRUE">75</DefaultCompressionQuality>
<DefaultCompressionTolerance Sync="TRUE">0.01</DefaultCompressionTolerance>
<BlendWidth Sync="TRUE">10</BlendWidth>
<ViewpointSpacingX Sync="TRUE">600</ViewpointSpacingX>
<ViewpointSpacingY Sync="TRUE">300</ViewpointSpacingY>
<AllowedItemMetadata Sync="TRUE">Basic</AllowedItemMetadata>
<DefaultResamplingMethod Sync="TRUE">1</DefaultResamplingMethod>
<AllowedMosaicMethods Sync="TRUE">NorthWest,Center,LockRaster,ByAttribute,Nadir,Viewpoint,Seamline,None</AllowedMosaicMethods>
<AllowedCompressions Sync="TRUE">None,JPEG,LZ77,LERC</AllowedCompressions>
<AllowedMensurationCapabilities Sync="TRUE">Basic</AllowedMensurationCapabilities>
<AvailableMensurationCapabilities Sync="TRUE">None,Basic,Base-Top Height,Top-Top Shadow Height,Base-Top Shadow Height,3D</AvailableMensurationCapabilities>
<ClipToBoundary Sync="TRUE">-1</ClipToBoundary>
<FootprintMayContainNoData Sync="TRUE">-1</FootprintMayContainNoData>
<CellSizeTolerance Sync="TRUE">0.8</CellSizeTolerance>
<MinimumPixelContribution Sync="TRUE">1</MinimumPixelContribution>
<AvailableMosaicMethods Sync="TRUE">NorthWest,Center,LockRaster,ByAttribute,Nadir,Viewpoint,Seamline,None</AvailableMosaicMethods>
<AvailableCompressionMethods Sync="TRUE">None,JPEG,LZ77,LERC</AvailableCompressionMethods>
<AvailableItemMetadataLevels Sync="TRUE">None,Basic,Full</AvailableItemMetadataLevels>
<BandDefinitionKeyword Sync="TRUE">NONE</BandDefinitionKeyword>
<_docversion_ Sync="TRUE">10</_docversion_>
<AllowedFields Sync="TRUE">Name,MinPS,MaxPS,LowPS,HighPS,Tag,GroupName,ProductName,CenterX,CenterY,ZOrder,Shape_Length,Shape_Area</AllowedFields>
<MaxCellSize Sync="TRUE">86400</MaxCellSize>
<LowCellSize Sync="TRUE">2</LowCellSize>
<HighCellSize Sync="TRUE">1728</HighCellSize>
</Properties>
<Functions Sync="TRUE">
<Function Description="Performs on-the-fly mosaic on a raster catalog." Name="Mosaic Function"/>
</Functions>
</RasterProperties>
</DataProperties>
<SyncDate>20201217</SyncDate>
<SyncTime>12125500</SyncTime>
<ModDate>20201217</ModDate>
<ModTime>12125500</ModTime>
</Esri>
<dataIdInfo>
<envirDesc Sync="TRUE"> Version 6.2 (Build 9200) ; Esri ArcGIS 10.7.1.11595</envirDesc>
<dataLang>
<languageCode Sync="TRUE" value="eng"/>
<countryCode Sync="TRUE" value="USA"/>
</dataLang>
<idCitation>
<resTitle Sync="TRUE">DEM_Slope_Degree_MNE_Pente_Degre</resTitle>
<presForm>
<PresFormCd Sync="TRUE" value="005"/>
</presForm>
</idCitation>
<spatRpType>
<SpatRepTypCd Sync="TRUE" value="002"/>
</spatRpType>
<dataExt>
<geoEle>
<GeoBndBox esriExtentType="search">
<exTypeCode Sync="TRUE">1</exTypeCode>
<westBL Sync="TRUE">-69.102798</westBL>
<eastBL Sync="TRUE">-63.656691</eastBL>
<northBL Sync="TRUE">48.091020</northBL>
<southBL Sync="TRUE">44.443989</southBL>
</GeoBndBox>
</geoEle>
</dataExt>
<idAbs>A slope map describes the steepness of the terrain. The steepness of a slope may be measured from 0 to 90 degrees. This slope map was derived from a 1m resolution Bare Earth LiDAR Digital Elevation Model. Provided in New Brunswick Stereographic Double Projection with CGVD2013 vertical datum. Produced in 2025, from LiDAR data acquired between 2016-2024.
Une carte des pentes indique l’inclinaison du terrain. L’inclinaison d’une pente peut être mesurée entre 0 et 90 degrés. Cette carte de pentes est dérivée des données de surface à nu du modèle numérique d’élévation LIDAR offrant une résolution de 1 m.
Fourni en projection stéréographique double du Nouveau-Brunswick avec la donnée du canevas altimétrique CGVD2013.
</idAbs>
<searchKeys>
<keyword>Slope</keyword>
<keyword>Pentes</keyword>
<keyword>Degree</keyword>
<keyword>Degré</keyword>
<keyword>LiDAR</keyword>
<keyword>GeoNB</keyword>
<keyword>New Brunswick</keyword>
<keyword>Nouveau-Brunswick</keyword>
</searchKeys>
<idPurp>A slope map describes the steepness of the terrain. Une carte des pentes indique l’inclinaison du terrain</idPurp>
<idCredit>Service New Brunswick / Service Nouveau-Brunswick</idCredit>
<resConst>
<Consts>
<useLimit>Open Government Licence / Licence du gouvernement ouvert</useLimit>
</Consts>
</resConst>
</dataIdInfo>
<mdLang>
<languageCode Sync="TRUE" value="eng"/>
<countryCode Sync="TRUE" value="USA"/>
</mdLang>
<refSysInfo>
<RefSystem>
<refSysID>
<identCode Sync="TRUE" code="2953"/>
<idCodeSpace Sync="TRUE">EPSG</idCodeSpace>
<idVersion Sync="TRUE">6.2(9.3.0.0)</idVersion>
</refSysID>
</RefSystem>
</refSysInfo>
<spatRepInfo>
<Georect>
<cellGeo>
<CellGeoCd Sync="TRUE" value="002"/>
</cellGeo>
<numDims Sync="TRUE">2</numDims>
<tranParaAv Sync="TRUE">1</tranParaAv>
<chkPtAv Sync="TRUE">0</chkPtAv>
<cornerPts>
<pos Sync="TRUE">2305999.540400 7274999.904219</pos>
</cornerPts>
<cornerPts>
<pos Sync="TRUE">2305999.540400 7676879.904219</pos>
</cornerPts>
<cornerPts>
<pos Sync="TRUE">2711945.540400 7676879.904219</pos>
</cornerPts>
<cornerPts>
<pos Sync="TRUE">2711945.540400 7274999.904219</pos>
</cornerPts>
<centerPt>
<pos Sync="TRUE">2508972.540400 7475939.904219</pos>
</centerPt>
<axisDimension type="002">
<dimSize Sync="TRUE">202973</dimSize>
<dimResol>
<value Sync="TRUE" uom="m">2.000000</value>
</dimResol>
</axisDimension>
<axisDimension type="001">
<dimSize Sync="TRUE">200940</dimSize>
<dimResol>
<value Sync="TRUE" uom="m">2.000000</value>
</dimResol>
</axisDimension>
<ptInPixel>
<PixOrientCd Sync="TRUE" value="001"/>
</ptInPixel>
</Georect>
</spatRepInfo>
<contInfo>
<ImgDesc>
<contentTyp>
<ContentTypCd Sync="TRUE" value="001"/>
</contentTyp>
<covDim>
<Band>
<dimDescrp Sync="TRUE">Band_1</dimDescrp>
<maxVal Sync="TRUE">84.493662</maxVal>
<minVal Sync="TRUE">0.165350</minVal>
<bitsPerVal Sync="TRUE">32</bitsPerVal>
<valUnit>
<UOM type="length"/>
</valUnit>
</Band>
</covDim>
</ImgDesc>
</contInfo>
<mdDateSt Sync="TRUE">20201217</mdDateSt>
</metadata>
